BEGIN:VCALENDAR
VERSION:2.0
PRODID:-//Hofors Jakt och Sportskytteklubb - ECPv6.15.20//NONSGML v1.0//EN
CALSCALE:GREGORIAN
METHOD:PUBLISH
X-ORIGINAL-URL:https://www.hoforsjaktochsportskytteklubb.se
X-WR-CALDESC:Händelser för Hofors Jakt och Sportskytteklubb
REFRESH-INTERVAL;VALUE=DURATION:PT1H
X-Robots-Tag:noindex
X-PUBLISHED-TTL:PT1H
BEGIN:VTIMEZONE
TZID:Europe/Stockholm
BEGIN:DAYLIGHT
TZOFFSETFROM:+0100
TZOFFSETTO:+0200
TZNAME:CEST
DTSTART:20240331T010000
END:DAYLIGHT
BEGIN:STANDARD
TZOFFSETFROM:+0200
TZOFFSETTO:+0100
TZNAME:CET
DTSTART:20241027T010000
END:STANDARD
BEGIN:DAYLIGHT
TZOFFSETFROM:+0100
TZOFFSETTO:+0200
TZNAME:CEST
DTSTART:20250330T010000
END:DAYLIGHT
BEGIN:STANDARD
TZOFFSETFROM:+0200
TZOFFSETTO:+0100
TZNAME:CET
DTSTART:20251026T010000
END:STANDARD
BEGIN:DAYLIGHT
TZOFFSETFROM:+0100
TZOFFSETTO:+0200
TZNAME:CEST
DTSTART:20260329T010000
END:DAYLIGHT
BEGIN:STANDARD
TZOFFSETFROM:+0200
TZOFFSETTO:+0100
TZNAME:CET
DTSTART:20261025T010000
END:STANDARD
END:VTIMEZONE
BEGIN:VEVENT
DTSTART;TZID=Europe/Stockholm:20250920T090000
DTEND;TZID=Europe/Stockholm:20250920T120000
DTSTAMP:20260420T064519
CREATED:20250724T095543Z
LAST-MODIFIED:20250724T095646Z
UID:709-1758358800-1758369600@www.hoforsjaktochsportskytteklubb.se
SUMMARY:Älgstig i Säljsjön
DESCRIPTION:Mer info kommer
URL:https://www.hoforsjaktochsportskytteklubb.se/aktiviteter/algstig-i-saljsjon/
CATEGORIES:Jaktstig
END:VEVENT
END:VCALENDAR