BEGIN:VCALENDAR
VERSION:2.0
PRODID:-//Hofors Jakt och Sportskytteklubb - ECPv6.15.20//NONSGML v1.0//EN
CALSCALE:GREGORIAN
METHOD:PUBLISH
X-WR-CALNAME:Hofors Jakt och Sportskytteklubb
X-ORIGINAL-URL:https://www.hoforsjaktochsportskytteklubb.se
X-WR-CALDESC:Händelser för Hofors Jakt och Sportskytteklubb
REFRESH-INTERVAL;VALUE=DURATION:PT1H
X-Robots-Tag:noindex
X-PUBLISHED-TTL:PT1H
BEGIN:VTIMEZONE
TZID:UTC
BEGIN:STANDARD
TZOFFSETFROM:+0000
TZOFFSETTO:+0000
TZNAME:UTC
DTSTART:20230101T000000
END:STANDARD
END:VTIMEZONE
BEGIN:VEVENT
DTSTART;TZID=UTC:20240915T080000
DTEND;TZID=UTC:20240915T120000
DTSTAMP:20260423T073046
CREATED:20240903T075818Z
LAST-MODIFIED:20240903T075818Z
UID:634-1726387200-1726401600@www.hoforsjaktochsportskytteklubb.se
SUMMARY:Älgstigen i Sälgsjön
DESCRIPTION:Mer info Här: https://krets.jagareforbundet.se/hoforstorsaker/files/2024/07/Algstigen-_2024-ny.pdf \n  \n 
URL:https://www.hoforsjaktochsportskytteklubb.se/aktiviteter/algstigen-i-salgsjon/
CATEGORIES:Jaktstig
END:VEVENT
BEGIN:VEVENT
DTSTART;TZID=UTC:20240921T080000
DTEND;TZID=UTC:20240921T120000
DTSTAMP:20260423T073046
CREATED:20240903T075913Z
LAST-MODIFIED:20240903T075913Z
UID:637-1726905600-1726920000@www.hoforsjaktochsportskytteklubb.se
SUMMARY:Älgstigen i Sälgsjön
DESCRIPTION:Mer info Här: https://krets.jagareforbundet.se/hoforstorsaker/files/2024/07/Algstigen-_2024-ny.pdf
URL:https://www.hoforsjaktochsportskytteklubb.se/aktiviteter/algstigen-i-salgsjon-2/
CATEGORIES:Jaktstig
END:VEVENT
END:VCALENDAR