BEGIN:VCALENDAR
VERSION:2.0
PRODID:-//Hofors Jakt och Sportskytteklubb - ECPv6.15.20//NONSGML v1.0//EN
CALSCALE:GREGORIAN
METHOD:PUBLISH
X-ORIGINAL-URL:https://www.hoforsjaktochsportskytteklubb.se
X-WR-CALDESC:Händelser för Hofors Jakt och Sportskytteklubb
REFRESH-INTERVAL;VALUE=DURATION:PT1H
X-Robots-Tag:noindex
X-PUBLISHED-TTL:PT1H
BEGIN:VTIMEZONE
TZID:UTC
BEGIN:STANDARD
TZOFFSETFROM:+0000
TZOFFSETTO:+0000
TZNAME:UTC
DTSTART:20230101T000000
END:STANDARD
END:VTIMEZONE
BEGIN:VEVENT
DTSTART;TZID=UTC:20240804T080000
DTEND;TZID=UTC:20240804T120000
DTSTAMP:20260422T225048
CREATED:20240724T153620Z
LAST-MODIFIED:20240724T153620Z
UID:613-1722758400-1722772800@www.hoforsjaktochsportskytteklubb.se
SUMMARY:Björnpasset med Jägarförbundet
DESCRIPTION:Vi kommer låna ut banan till Jägarförbundet JVK Hofors-Torsåker som kommer köra björnpasset hos oss istället för som tidigare i Hubo. \nSaxat från deras hemsida: \n”Björn- och Grispasset kan skjutas. Nya björnpasset tillämpas. \nFlera stationer kommer att få rörliga mål även detta år. \nStartavgift: 100kr\nKostnadsfri ungdomsskjutning\, under 18 år.\nKrav är att myndig person medföljer och ansvarar för ungdomen. \n21 skott krävs för hela banan.\nDet kommer INTE att finnas ammunition att köpa på plats.” \nhttps://krets.jagareforbundet.se/hoforstorsaker/events/bjorn-och-grisstigen-hofors-skjutbana/
URL:https://www.hoforsjaktochsportskytteklubb.se/aktiviteter/bjornpasset-med-jagarforbundet/
CATEGORIES:Björnpasset
END:VEVENT
END:VCALENDAR