BEGIN:VCALENDAR
VERSION:2.0
PRODID:-//Hofors Jakt och Sportskytteklubb - ECPv6.15.20//NONSGML v1.0//EN
CALSCALE:GREGORIAN
METHOD:PUBLISH
X-ORIGINAL-URL:https://www.hoforsjaktochsportskytteklubb.se
X-WR-CALDESC:Händelser för Hofors Jakt och Sportskytteklubb
REFRESH-INTERVAL;VALUE=DURATION:PT1H
X-Robots-Tag:noindex
X-PUBLISHED-TTL:PT1H
BEGIN:VTIMEZONE
TZID:Europe/Stockholm
BEGIN:DAYLIGHT
TZOFFSETFROM:+0100
TZOFFSETTO:+0200
TZNAME:CEST
DTSTART:20240331T010000
END:DAYLIGHT
BEGIN:STANDARD
TZOFFSETFROM:+0200
TZOFFSETTO:+0100
TZNAME:CET
DTSTART:20241027T010000
END:STANDARD
BEGIN:DAYLIGHT
TZOFFSETFROM:+0100
TZOFFSETTO:+0200
TZNAME:CEST
DTSTART:20250330T010000
END:DAYLIGHT
BEGIN:STANDARD
TZOFFSETFROM:+0200
TZOFFSETTO:+0100
TZNAME:CET
DTSTART:20251026T010000
END:STANDARD
BEGIN:DAYLIGHT
TZOFFSETFROM:+0100
TZOFFSETTO:+0200
TZNAME:CEST
DTSTART:20260329T010000
END:DAYLIGHT
BEGIN:STANDARD
TZOFFSETFROM:+0200
TZOFFSETTO:+0100
TZNAME:CET
DTSTART:20261025T010000
END:STANDARD
END:VTIMEZONE
BEGIN:VTIMEZONE
TZID:UTC
BEGIN:STANDARD
TZOFFSETFROM:+0000
TZOFFSETTO:+0000
TZNAME:UTC
DTSTART:20230101T000000
END:STANDARD
END:VTIMEZONE
BEGIN:VEVENT
DTSTART;TZID=Europe/Stockholm:20250828T170000
DTEND;TZID=Europe/Stockholm:20250828T200000
DTSTAMP:20260421T152732
CREATED:20250818T062326Z
LAST-MODIFIED:20250818T062326Z
UID:724-1756400400-1756411200@www.hoforsjaktochsportskytteklubb.se
SUMMARY:Jaktlagsskjutning
DESCRIPTION:Älgbanan är reserverad av ett Jaktlag för enskild skjutning. Deltagande kräver medlemskap.
URL:https://www.hoforsjaktochsportskytteklubb.se/aktiviteter/jaktlagsskjutning-2/
CATEGORIES:Älgbana
END:VEVENT
BEGIN:VEVENT
DTSTART;TZID=Europe/Stockholm:20250827T090000
DTEND;TZID=Europe/Stockholm:20250827T120000
DTSTAMP:20260421T152732
CREATED:20250724T093813Z
LAST-MODIFIED:20250724T093813Z
UID:683-1756285200-1756296000@www.hoforsjaktochsportskytteklubb.se
SUMMARY:Bemannad Skjutning på Älgbanan
DESCRIPTION:Elektronisk Älgbana på 80m \n\nSkjutledare på plats\nIcke medlemmar får efter godkännande från skjutledaren skjuta mot en avgift på 50kr\, (ämnat för prova-på och övning)\n\nOBS! vi skriver bara i skytteboken för medlemmar.\n\n\nAmmunition finns att köpa för medlemmar.\n\nOBS! Endast Swish Betalning!\n.30-06\n.308w\n6\,5×55\n\n\nHalvautomater måste ha Säkerhetspropp! (Finns att köpa på plats för 50kr)
URL:https://www.hoforsjaktochsportskytteklubb.se/aktiviteter/bemannad-skjutning-pa-algbanan-41/
CATEGORIES:Älgbana
END:VEVENT
BEGIN:VEVENT
DTSTART;TZID=UTC:20250823T090000
DTEND;TZID=UTC:20250823T120000
DTSTAMP:20260421T152732
CREATED:20250724T094919Z
LAST-MODIFIED:20250724T094919Z
UID:706-1755939600-1755950400@www.hoforsjaktochsportskytteklubb.se
SUMMARY:Bemannad Skjutning på Älgbanan
DESCRIPTION:Elektronisk Älgbana på 80m \n\nSkjutledare på plats\nIcke medlemmar får efter godkännande från skjutledaren skjuta mot en avgift på 50kr\, (ämnat för prova-på och övning)\n\nOBS! vi skriver bara i skytteboken för medlemmar.\n\n\nAmmunition finns att köpa för medlemmar.\n\nOBS! Endast Swish Betalning!\n.30-06\n.308w\n6\,5×55\n\n\nHalvautomater måste ha Säkerhetspropp! (Finns att köpa på plats för 50kr)
URL:https://www.hoforsjaktochsportskytteklubb.se/aktiviteter/bemannad-skjutning-pa-algbanan-52/
CATEGORIES:Älgbana
END:VEVENT
BEGIN:VEVENT
DTSTART;TZID=Europe/Stockholm:20250820T090000
DTEND;TZID=Europe/Stockholm:20250820T130000
DTSTAMP:20260421T152732
CREATED:20250724T093725Z
LAST-MODIFIED:20250724T093725Z
UID:681-1755680400-1755694800@www.hoforsjaktochsportskytteklubb.se
SUMMARY:Bemannad Skjutning på Älgbanan
DESCRIPTION:Elektronisk Älgbana på 80m \n\nSkjutledare på plats\nIcke medlemmar får efter godkännande från skjutledaren skjuta mot en avgift på 50kr\, (ämnat för prova-på och övning)\n\nOBS! vi skriver bara i skytteboken för medlemmar.\n\n\nAmmunition finns att köpa för medlemmar.\n\nOBS! Endast Swish Betalning!\n.30-06\n.308w\n6\,5×55\n\n\nHalvautomater måste ha Säkerhetspropp! (Finns att köpa på plats för 50kr)
URL:https://www.hoforsjaktochsportskytteklubb.se/aktiviteter/bemannad-skjutning-pa-algbanan-40/
CATEGORIES:Älgbana
END:VEVENT
BEGIN:VEVENT
DTSTART;TZID=Europe/Stockholm:20250819T170000
DTEND;TZID=Europe/Stockholm:20250819T200000
DTSTAMP:20260421T152732
CREATED:20250814T194353Z
LAST-MODIFIED:20250814T194457Z
UID:716-1755622800-1755633600@www.hoforsjaktochsportskytteklubb.se
SUMMARY:Jaktlagsskjutning
DESCRIPTION:Älgbanan är reserverad av ett Jaktlag för enskild skjutning
URL:https://www.hoforsjaktochsportskytteklubb.se/aktiviteter/jaktlagsskjutning/
CATEGORIES:Älgbana
END:VEVENT
BEGIN:VEVENT
DTSTART;TZID=Europe/Stockholm:20250817T080000
DTEND;TZID=Europe/Stockholm:20250817T120000
DTSTAMP:20260421T152732
CREATED:20250811T115319Z
LAST-MODIFIED:20250811T115319Z
UID:714-1755417600-1755432000@www.hoforsjaktochsportskytteklubb.se
SUMMARY:Björnpasset
DESCRIPTION:Vi lånar ut banan till kretsen som kommer anordna björnpasset. \nAnmälan mellan 08.00 – 11.30. Skjutning fram till 12.00. \nMer info här: https://krets.jagareforbundet.se/hoforstorsaker/events/bjornstigen-vid-hoforsbacken/
URL:https://www.hoforsjaktochsportskytteklubb.se/aktiviteter/bjornpasset-2/
CATEGORIES:Björnpasset
END:VEVENT
BEGIN:VEVENT
DTSTART;TZID=Europe/Stockholm:20250816T080000
DTEND;TZID=Europe/Stockholm:20250816T120000
DTSTAMP:20260421T152732
CREATED:20250724T095135Z
LAST-MODIFIED:20250724T095135Z
UID:701-1755331200-1755345600@www.hoforsjaktochsportskytteklubb.se
SUMMARY:Bemannad Skjutning på Älgbanan
DESCRIPTION:Elektronisk Älgbana på 80m \n\nSkjutledare på plats\nIcke medlemmar får efter godkännande från skjutledaren skjuta mot en avgift på 50kr\, (ämnat för prova-på och övning)\n\nOBS! vi skriver bara i skytteboken för medlemmar.\n\n\nAmmunition finns att köpa för medlemmar.\n\nOBS! Endast Swish Betalning!\n.30-06\n.308w\n6\,5×55\n\n\nHalvautomater måste ha Säkerhetspropp! (Finns att köpa på plats för 50kr)
URL:https://www.hoforsjaktochsportskytteklubb.se/aktiviteter/bemannad-skjutning-pa-algbanan-53/
CATEGORIES:Älgbana
END:VEVENT
BEGIN:VEVENT
DTSTART;TZID=Europe/Stockholm:20250809T090000
DTEND;TZID=Europe/Stockholm:20250809T120000
DTSTAMP:20260421T152732
CREATED:20250724T095747Z
LAST-MODIFIED:20250724T095747Z
UID:711-1754730000-1754740800@www.hoforsjaktochsportskytteklubb.se
SUMMARY:Bemannad Skjutning på Älgbanan
DESCRIPTION:Elektronisk Älgbana på 80m \n\nSkjutledare på plats\nIcke medlemmar får efter godkännande från skjutledaren skjuta mot en avgift på 50kr\, (ämnat för prova-på och övning)\n\nOBS! vi skriver bara i skytteboken för medlemmar.\n\n\nAmmunition finns att köpa för medlemmar.\n\nOBS! Endast Swish Betalning!\n.30-06\n.308w\n6\,5×55\n\n\nHalvautomater måste ha Säkerhetspropp! (Finns att köpa på plats för 50kr)
URL:https://www.hoforsjaktochsportskytteklubb.se/aktiviteter/bemannad-skjutning-pa-algbanan-54/
CATEGORIES:Älgbana
END:VEVENT
BEGIN:VEVENT
DTSTART;TZID=Europe/Stockholm:20250806T090000
DTEND;TZID=Europe/Stockholm:20250806T120000
DTSTAMP:20260421T152732
CREATED:20250724T093310Z
LAST-MODIFIED:20250724T093618Z
UID:677-1754470800-1754481600@www.hoforsjaktochsportskytteklubb.se
SUMMARY:Bemannad Skjutning på Älgbanan
DESCRIPTION:Elektronisk Älgbana på 80m \n\nSkjutledare på plats\nIcke medlemmar får efter godkännande från skjutledaren skjuta mot en avgift på 50kr\, (ämnat för prova-på och övning)\n\nOBS! vi skriver bara i skytteboken för medlemmar.\n\n\nAmmunition finns att köpa för medlemmar.\n\nOBS! Endast Swish Betalning!\n.30-06\n.308w\n6\,5×55\n\n\nHalvautomater måste ha Säkerhetspropp! (Finns att köpa på plats för 50kr)
URL:https://www.hoforsjaktochsportskytteklubb.se/aktiviteter/bemannad-skjutning-pa-algbanan-38/
CATEGORIES:Älgbana
END:VEVENT
BEGIN:VEVENT
DTSTART;TZID=Europe/Stockholm:20250802T090000
DTEND;TZID=Europe/Stockholm:20250802T120000
DTSTAMP:20260421T152732
CREATED:20250724T093225Z
LAST-MODIFIED:20250724T093548Z
UID:675-1754125200-1754136000@www.hoforsjaktochsportskytteklubb.se
SUMMARY:Bemannad Skjutning på Älgbanan
DESCRIPTION:Elektronisk Älgbana på 80m \n\nSkjutledare på plats\nIcke medlemmar får efter godkännande från skjutledaren skjuta mot en avgift på 50kr\, (ämnat för prova-på och övning)\n\nOBS! vi skriver bara i skytteboken för medlemmar.\n\n\nAmmunition finns att köpa för medlemmar.\n\nOBS! Endast Swish Betalning!\n.30-06\n.308w\n6\,5×55\n\n\nHalvautomater måste ha Säkerhetspropp! (Finns att köpa på plats för 50kr)
URL:https://www.hoforsjaktochsportskytteklubb.se/aktiviteter/bemannad-skjutning-pa-algbanan-37/
CATEGORIES:Älgbana
END:VEVENT
BEGIN:VEVENT
DTSTART;TZID=UTC:20241005T090000
DTEND;TZID=UTC:20241005T120000
DTSTAMP:20260421T152732
CREATED:20240724T152300Z
LAST-MODIFIED:20240724T152300Z
UID:611-1728118800-1728129600@www.hoforsjaktochsportskytteklubb.se
SUMMARY:Bemannad Skjutning på Älgbanan
DESCRIPTION:Elektronisk Älgbana på 80m \n\nSkjutledare på plats\nIcke medlemmar får efter godkännande från skjutledaren skjuta mot en avgift på 50kr\, (ämnat för prova-på och övning)\n\nOBS! vi skriver bara i skytteboken för medlemmar.\n\n\nAmmunition finns att köpa för medlemmar.\n\nOBS! Endast Swish Betalning!\n.30-06\n.308w\n6\,5×55\n\n\nHalvautomater måste ha Säkerhetspropp! (Finns att köpa på plats för 50kr)
URL:https://www.hoforsjaktochsportskytteklubb.se/aktiviteter/bemannad-skjutning-pa-algbanan-28/
CATEGORIES:Älgbana
END:VEVENT
BEGIN:VEVENT
DTSTART;TZID=UTC:20241002T090000
DTEND;TZID=UTC:20241002T120000
DTSTAMP:20260421T152732
CREATED:20240724T152224Z
LAST-MODIFIED:20240724T152224Z
UID:609-1727859600-1727870400@www.hoforsjaktochsportskytteklubb.se
SUMMARY:Bemannad Skjutning på Älgbanan
DESCRIPTION:Elektronisk Älgbana på 80m \n\nSkjutledare på plats\nIcke medlemmar får efter godkännande från skjutledaren skjuta mot en avgift på 50kr\, (ämnat för prova-på och övning)\n\nOBS! vi skriver bara i skytteboken för medlemmar.\n\n\nAmmunition finns att köpa för medlemmar.\n\nOBS! Endast Swish Betalning!\n.30-06\n.308w\n6\,5×55\n\n\nHalvautomater måste ha Säkerhetspropp! (Finns att köpa på plats för 50kr)
URL:https://www.hoforsjaktochsportskytteklubb.se/aktiviteter/bemannad-skjutning-pa-algbanan-27/
CATEGORIES:Älgbana
END:VEVENT
BEGIN:VEVENT
DTSTART;TZID=UTC:20240928T090000
DTEND;TZID=UTC:20240928T120000
DTSTAMP:20260421T152732
CREATED:20240724T152144Z
LAST-MODIFIED:20240724T152144Z
UID:607-1727514000-1727524800@www.hoforsjaktochsportskytteklubb.se
SUMMARY:Bemannad Skjutning på Älgbanan
DESCRIPTION:Elektronisk Älgbana på 80m \n\nSkjutledare på plats\nIcke medlemmar får efter godkännande från skjutledaren skjuta mot en avgift på 50kr\, (ämnat för prova-på och övning)\n\nOBS! vi skriver bara i skytteboken för medlemmar.\n\n\nAmmunition finns att köpa för medlemmar.\n\nOBS! Endast Swish Betalning!\n.30-06\n.308w\n6\,5×55\n\n\nHalvautomater måste ha Säkerhetspropp! (Finns att köpa på plats för 50kr)
URL:https://www.hoforsjaktochsportskytteklubb.se/aktiviteter/bemannad-skjutning-pa-algbanan-26/
CATEGORIES:Älgbana
END:VEVENT
BEGIN:VEVENT
DTSTART;TZID=UTC:20240925T090000
DTEND;TZID=UTC:20240925T120000
DTSTAMP:20260421T152732
CREATED:20240724T152105Z
LAST-MODIFIED:20240724T152105Z
UID:605-1727254800-1727265600@www.hoforsjaktochsportskytteklubb.se
SUMMARY:Bemannad Skjutning på Älgbanan
DESCRIPTION:Elektronisk Älgbana på 80m \n\nSkjutledare på plats\nIcke medlemmar får efter godkännande från skjutledaren skjuta mot en avgift på 50kr\, (ämnat för prova-på och övning)\n\nOBS! vi skriver bara i skytteboken för medlemmar.\n\n\nAmmunition finns att köpa för medlemmar.\n\nOBS! Endast Swish Betalning!\n.30-06\n.308w\n6\,5×55\n\n\nHalvautomater måste ha Säkerhetspropp! (Finns att köpa på plats för 50kr)
URL:https://www.hoforsjaktochsportskytteklubb.se/aktiviteter/bemannad-skjutning-pa-algbanan-25/
CATEGORIES:Älgbana
END:VEVENT
BEGIN:VEVENT
DTSTART;TZID=UTC:20240921T090000
DTEND;TZID=UTC:20240921T120000
DTSTAMP:20260421T152732
CREATED:20240724T152017Z
LAST-MODIFIED:20240724T152017Z
UID:603-1726909200-1726920000@www.hoforsjaktochsportskytteklubb.se
SUMMARY:Bemannad Skjutning på Älgbanan
DESCRIPTION:Elektronisk Älgbana på 80m \n\nSkjutledare på plats\nIcke medlemmar får efter godkännande från skjutledaren skjuta mot en avgift på 50kr\, (ämnat för prova-på och övning)\n\nOBS! vi skriver bara i skytteboken för medlemmar.\n\n\nAmmunition finns att köpa för medlemmar.\n\nOBS! Endast Swish Betalning!\n.30-06\n.308w\n6\,5×55\n\n\nHalvautomater måste ha Säkerhetspropp! (Finns att köpa på plats för 50kr)
URL:https://www.hoforsjaktochsportskytteklubb.se/aktiviteter/bemannad-skjutning-pa-algbanan-24/
CATEGORIES:Älgbana
END:VEVENT
BEGIN:VEVENT
DTSTART;TZID=UTC:20240918T080000
DTEND;TZID=UTC:20240918T170000
DTSTAMP:20260421T152732
CREATED:20240724T151940Z
LAST-MODIFIED:20240724T151940Z
UID:601-1726646400-1726678800@www.hoforsjaktochsportskytteklubb.se
SUMMARY:Bemannad Skjutning på Älgbanan
DESCRIPTION:Elektronisk Älgbana på 80m \n\nSkjutledare på plats\nIcke medlemmar får efter godkännande från skjutledaren skjuta mot en avgift på 50kr\, (ämnat för prova-på och övning)\n\nOBS! vi skriver bara i skytteboken för medlemmar.\n\n\nAmmunition finns att köpa för medlemmar.\n\nOBS! Endast Swish Betalning!\n.30-06\n.308w\n6\,5×55\n\n\nHalvautomater måste ha Säkerhetspropp! (Finns att köpa på plats för 50kr)
URL:https://www.hoforsjaktochsportskytteklubb.se/aktiviteter/bemannad-skjutning-pa-algbanan-23/
CATEGORIES:Älgbana
END:VEVENT
BEGIN:VEVENT
DTSTART;TZID=UTC:20240914T090000
DTEND;TZID=UTC:20240914T120000
DTSTAMP:20260421T152732
CREATED:20240724T151906Z
LAST-MODIFIED:20240724T151906Z
UID:599-1726304400-1726315200@www.hoforsjaktochsportskytteklubb.se
SUMMARY:Bemannad Skjutning på Älgbanan
DESCRIPTION:Elektronisk Älgbana på 80m \n\nSkjutledare på plats\nIcke medlemmar får efter godkännande från skjutledaren skjuta mot en avgift på 50kr\, (ämnat för prova-på och övning)\n\nOBS! vi skriver bara i skytteboken för medlemmar.\n\n\nAmmunition finns att köpa för medlemmar.\n\nOBS! Endast Swish Betalning!\n.30-06\n.308w\n6\,5×55\n\n\nHalvautomater måste ha Säkerhetspropp! (Finns att köpa på plats för 50kr)
URL:https://www.hoforsjaktochsportskytteklubb.se/aktiviteter/bemannad-skjutning-pa-algbanan-22/
CATEGORIES:Älgbana
END:VEVENT
BEGIN:VEVENT
DTSTART;TZID=UTC:20240911T090000
DTEND;TZID=UTC:20240911T120000
DTSTAMP:20260421T152732
CREATED:20240724T151822Z
LAST-MODIFIED:20240724T151822Z
UID:597-1726045200-1726056000@www.hoforsjaktochsportskytteklubb.se
SUMMARY:Bemannad Skjutning på Älgbanan
DESCRIPTION:Elektronisk Älgbana på 80m \n\nSkjutledare på plats\nIcke medlemmar får efter godkännande från skjutledaren skjuta mot en avgift på 50kr\, (ämnat för prova-på och övning)\n\nOBS! vi skriver bara i skytteboken för medlemmar.\n\n\nAmmunition finns att köpa för medlemmar.\n\nOBS! Endast Swish Betalning!\n.30-06\n.308w\n6\,5×55\n\n\nHalvautomater måste ha Säkerhetspropp! (Finns att köpa på plats för 50kr)
URL:https://www.hoforsjaktochsportskytteklubb.se/aktiviteter/bemannad-skjutning-pa-algbanan-21/
CATEGORIES:Älgbana
END:VEVENT
BEGIN:VEVENT
DTSTART;TZID=UTC:20240907T090000
DTEND;TZID=UTC:20240907T120000
DTSTAMP:20260421T152732
CREATED:20240724T151753Z
LAST-MODIFIED:20240724T151753Z
UID:595-1725699600-1725710400@www.hoforsjaktochsportskytteklubb.se
SUMMARY:Bemannad Skjutning på Älgbanan
DESCRIPTION:Elektronisk Älgbana på 80m \n\nSkjutledare på plats\nIcke medlemmar får efter godkännande från skjutledaren skjuta mot en avgift på 50kr\, (ämnat för prova-på och övning)\n\nOBS! vi skriver bara i skytteboken för medlemmar.\n\n\nAmmunition finns att köpa för medlemmar.\n\nOBS! Endast Swish Betalning!\n.30-06\n.308w\n6\,5×55\n\n\nHalvautomater måste ha Säkerhetspropp! (Finns att köpa på plats för 50kr)
URL:https://www.hoforsjaktochsportskytteklubb.se/aktiviteter/bemannad-skjutning-pa-algbanan-20/
CATEGORIES:Älgbana
END:VEVENT
BEGIN:VEVENT
DTSTART;TZID=UTC:20240904T090000
DTEND;TZID=UTC:20240904T120000
DTSTAMP:20260421T152732
CREATED:20240724T151705Z
LAST-MODIFIED:20240724T151705Z
UID:593-1725440400-1725451200@www.hoforsjaktochsportskytteklubb.se
SUMMARY:Bemannad Skjutning på Älgbanan
DESCRIPTION:Elektronisk Älgbana på 80m \n\nSkjutledare på plats\nIcke medlemmar får efter godkännande från skjutledaren skjuta mot en avgift på 50kr\, (ämnat för prova-på och övning)\n\nOBS! vi skriver bara i skytteboken för medlemmar.\n\n\nAmmunition finns att köpa för medlemmar.\n\nOBS! Endast Swish Betalning!\n.30-06\n.308w\n6\,5×55\n\n\nHalvautomater måste ha Säkerhetspropp! (Finns att köpa på plats för 50kr)
URL:https://www.hoforsjaktochsportskytteklubb.se/aktiviteter/bemannad-skjutning-pa-algbanan-19/
CATEGORIES:Älgbana
END:VEVENT
BEGIN:VEVENT
DTSTART;TZID=UTC:20240831T090000
DTEND;TZID=UTC:20240831T120000
DTSTAMP:20260421T152732
CREATED:20240724T151615Z
LAST-MODIFIED:20240724T151615Z
UID:591-1725094800-1725105600@www.hoforsjaktochsportskytteklubb.se
SUMMARY:Bemannad Skjutning på Älgbanan
DESCRIPTION:Elektronisk Älgbana på 80m \n\nSkjutledare på plats\nIcke medlemmar får efter godkännande från skjutledaren skjuta mot en avgift på 50kr\, (ämnat för prova-på och övning)\n\nOBS! vi skriver bara i skytteboken för medlemmar.\n\n\nAmmunition finns att köpa för medlemmar.\n\nOBS! Endast Swish Betalning!\n.30-06\n.308w\n6\,5×55\n\n\nHalvautomater måste ha Säkerhetspropp! (Finns att köpa på plats för 50kr)
URL:https://www.hoforsjaktochsportskytteklubb.se/aktiviteter/bemannad-skjutning-pa-algbanan-18/
CATEGORIES:Älgbana
END:VEVENT
BEGIN:VEVENT
DTSTART;TZID=UTC:20240828T090000
DTEND;TZID=UTC:20240828T120000
DTSTAMP:20260421T152732
CREATED:20240724T151533Z
LAST-MODIFIED:20240724T151533Z
UID:589-1724835600-1724846400@www.hoforsjaktochsportskytteklubb.se
SUMMARY:Bemannad Skjutning på Älgbanan
DESCRIPTION:Elektronisk Älgbana på 80m \n\nSkjutledare på plats\nIcke medlemmar får efter godkännande från skjutledaren skjuta mot en avgift på 50kr\, (ämnat för prova-på och övning)\n\nOBS! vi skriver bara i skytteboken för medlemmar.\n\n\nAmmunition finns att köpa för medlemmar.\n\nOBS! Endast Swish Betalning!\n.30-06\n.308w\n6\,5×55\n\n\nHalvautomater måste ha Säkerhetspropp! (Finns att köpa på plats för 50kr)
URL:https://www.hoforsjaktochsportskytteklubb.se/aktiviteter/bemannad-skjutning-pa-algbanan-17/
CATEGORIES:Älgbana
END:VEVENT
BEGIN:VEVENT
DTSTART;TZID=UTC:20240824T090000
DTEND;TZID=UTC:20240824T120000
DTSTAMP:20260421T152732
CREATED:20240724T151415Z
LAST-MODIFIED:20240724T151415Z
UID:587-1724490000-1724500800@www.hoforsjaktochsportskytteklubb.se
SUMMARY:Bemannad Skjutning på Älgbanan
DESCRIPTION:Elektronisk Älgbana på 80m \n\nSkjutledare på plats\nIcke medlemmar får efter godkännande från skjutledaren skjuta mot en avgift på 50kr\, (ämnat för prova-på och övning)\n\nOBS! vi skriver bara i skytteboken för medlemmar.\n\n\nAmmunition finns att köpa för medlemmar.\n\nOBS! Endast Swish Betalning!\n.30-06\n.308w\n6\,5×55\n\n\nHalvautomater måste ha Säkerhetspropp! (Finns att köpa på plats för 50kr)
URL:https://www.hoforsjaktochsportskytteklubb.se/aktiviteter/bemannad-skjutning-pa-algbanan-16/
CATEGORIES:Älgbana
END:VEVENT
BEGIN:VEVENT
DTSTART;TZID=UTC:20240821T090000
DTEND;TZID=UTC:20240821T120000
DTSTAMP:20260421T152732
CREATED:20240724T151325Z
LAST-MODIFIED:20240724T151325Z
UID:585-1724230800-1724241600@www.hoforsjaktochsportskytteklubb.se
SUMMARY:Bemannad Skjutning på Älgbanan
DESCRIPTION:Elektronisk Älgbana på 80m \n\nSkjutledare på plats\nIcke medlemmar får efter godkännande från skjutledaren skjuta mot en avgift på 50kr\, (ämnat för prova-på och övning)\n\nOBS! vi skriver bara i skytteboken för medlemmar.\n\n\nAmmunition finns att köpa för medlemmar.\n\nOBS! Endast Swish Betalning!\n.30-06\n.308w\n6\,5×55\n\n\nHalvautomater måste ha Säkerhetspropp! (Finns att köpa på plats för 50kr)
URL:https://www.hoforsjaktochsportskytteklubb.se/aktiviteter/bemannad-skjutning-pa-algbanan-15/
CATEGORIES:Älgbana
END:VEVENT
BEGIN:VEVENT
DTSTART;TZID=UTC:20240817T090000
DTEND;TZID=UTC:20240817T120000
DTSTAMP:20260421T152732
CREATED:20240724T151225Z
LAST-MODIFIED:20240724T151225Z
UID:583-1723885200-1723896000@www.hoforsjaktochsportskytteklubb.se
SUMMARY:Bemannad Skjutning på Älgbanan
DESCRIPTION:Elektronisk Älgbana på 80m \n\nSkjutledare på plats\nIcke medlemmar får efter godkännande från skjutledaren skjuta mot en avgift på 50kr\, (ämnat för prova-på och övning)\n\nOBS! vi skriver bara i skytteboken för medlemmar.\n\n\nAmmunition finns att köpa för medlemmar.\n\nOBS! Endast Swish Betalning!\n.30-06\n.308w\n6\,5×55\n\n\nHalvautomater måste ha Säkerhetspropp! (Finns att köpa på plats för 50kr)
URL:https://www.hoforsjaktochsportskytteklubb.se/aktiviteter/bemannad-skjutning-pa-algbanan-14/
CATEGORIES:Älgbana
END:VEVENT
BEGIN:VEVENT
DTSTART;TZID=UTC:20240814T090000
DTEND;TZID=UTC:20240814T120000
DTSTAMP:20260421T152732
CREATED:20240724T151154Z
LAST-MODIFIED:20240724T151154Z
UID:581-1723626000-1723636800@www.hoforsjaktochsportskytteklubb.se
SUMMARY:Bemannad Skjutning på Älgbanan
DESCRIPTION:Elektronisk Älgbana på 80m \n\nSkjutledare på plats\nIcke medlemmar får efter godkännande från skjutledaren skjuta mot en avgift på 50kr\, (ämnat för prova-på och övning)\n\nOBS! vi skriver bara i skytteboken för medlemmar.\n\n\nAmmunition finns att köpa för medlemmar.\n\nOBS! Endast Swish Betalning!\n.30-06\n.308w\n6\,5×55\n\n\nHalvautomater måste ha Säkerhetspropp! (Finns att köpa på plats för 50kr)
URL:https://www.hoforsjaktochsportskytteklubb.se/aktiviteter/bemannad-skjutning-pa-algbanan-13/
CATEGORIES:Älgbana
END:VEVENT
BEGIN:VEVENT
DTSTART;TZID=UTC:20240810T090000
DTEND;TZID=UTC:20240810T120000
DTSTAMP:20260421T152732
CREATED:20240724T151014Z
LAST-MODIFIED:20240724T151014Z
UID:577-1723280400-1723291200@www.hoforsjaktochsportskytteklubb.se
SUMMARY:Bemannad Skjutning på Älgbanan
DESCRIPTION:Elektronisk Älgbana på 80m \n\nSkjutledare på plats\nIcke medlemmar får efter godkännande från skjutledaren skjuta mot en avgift på 50kr\, (ämnat för prova-på och övning)\n\nOBS! vi skriver bara i skytteboken för medlemmar.\n\n\nAmmunition finns att köpa för medlemmar.\n\nOBS! Endast Swish Betalning!\n.30-06\n.308w\n6\,5×55\n\n\nHalvautomater måste ha Säkerhetspropp! (Finns att köpa på plats för 50kr)
URL:https://www.hoforsjaktochsportskytteklubb.se/aktiviteter/bemannad-skjutning-pa-algbanan-11/
CATEGORIES:Älgbana
END:VEVENT
BEGIN:VEVENT
DTSTART;TZID=UTC:20240807T090000
DTEND;TZID=UTC:20240807T120000
DTSTAMP:20260421T152732
CREATED:20240724T150832Z
LAST-MODIFIED:20240724T150832Z
UID:575-1723021200-1723032000@www.hoforsjaktochsportskytteklubb.se
SUMMARY:Bemannad Skjutning på Älgbanan
DESCRIPTION:Elektronisk Älgbana på 80m \n\nSkjutledare på plats\nIcke medlemmar får efter godkännande från skjutledaren skjuta mot en avgift på 50kr\, (ämnat för prova-på och övning)\n\nOBS! vi skriver bara i skytteboken för medlemmar.\n\n\nAmmunition finns att köpa för medlemmar.\n\nOBS! Endast Swish Betalning!\n.30-06\n.308w\n6\,5×55\n\n\nHalvautomater måste ha Säkerhetspropp! (Finns att köpa på plats för 50kr)
URL:https://www.hoforsjaktochsportskytteklubb.se/aktiviteter/bemannad-skjutning-pa-algbanan-10/
CATEGORIES:Älgbana
END:VEVENT
BEGIN:VEVENT
DTSTART;TZID=UTC:20240803T090000
DTEND;TZID=UTC:20240803T120000
DTSTAMP:20260421T152732
CREATED:20240724T151115Z
LAST-MODIFIED:20240724T151115Z
UID:579-1722675600-1722686400@www.hoforsjaktochsportskytteklubb.se
SUMMARY:Bemannad Skjutning på Älgbanan
DESCRIPTION:Elektronisk Älgbana på 80m \n\nSkjutledare på plats\nIcke medlemmar får efter godkännande från skjutledaren skjuta mot en avgift på 50kr\, (ämnat för prova-på och övning)\n\nOBS! vi skriver bara i skytteboken för medlemmar.\n\n\nAmmunition finns att köpa för medlemmar.\n\nOBS! Endast Swish Betalning!\n.30-06\n.308w\n6\,5×55\n\n\nHalvautomater måste ha Säkerhetspropp! (Finns att köpa på plats för 50kr)
URL:https://www.hoforsjaktochsportskytteklubb.se/aktiviteter/bemannad-skjutning-pa-algbanan-12/
CATEGORIES:Älgbana
END:VEVENT
BEGIN:VEVENT
DTSTART;TZID=UTC:20240629T090000
DTEND;TZID=UTC:20240629T120000
DTSTAMP:20260421T152732
CREATED:20240522T105638Z
LAST-MODIFIED:20240522T105638Z
UID:566-1719651600-1719662400@www.hoforsjaktochsportskytteklubb.se
SUMMARY:Bemannad skjutning på Älgbanan
DESCRIPTION:Elektronisk Älgbana på 80m \n\nSkjutledare på plats\nIcke medlemmar får efter godkännande från skjutledaren skjuta mot en avgift på 50kr\, (ämnat för prova-på och övning)\n\nOBS! vi skriver bara i skytteboken för medlemmar.\n\n\nAmmunition finns att köpa för medlemmar.\n\nOBS! Endast Swish Betalning!\n.30-06\n.308w\n6\,5×55\n\n\nHalvautomater måste ha Säkerhetspropp! (Finns att köpa på plats för 50kr)
URL:https://www.hoforsjaktochsportskytteklubb.se/aktiviteter/bemannad-skjutning-pa-algbanan-9/
CATEGORIES:Älgbana
END:VEVENT
END:VCALENDAR