BEGIN:VCALENDAR
VERSION:2.0
PRODID:-//Hofors Jakt och Sportskytteklubb - ECPv6.15.20//NONSGML v1.0//EN
CALSCALE:GREGORIAN
METHOD:PUBLISH
X-ORIGINAL-URL:https://www.hoforsjaktochsportskytteklubb.se
X-WR-CALDESC:Händelser för Hofors Jakt och Sportskytteklubb
REFRESH-INTERVAL;VALUE=DURATION:PT1H
X-Robots-Tag:noindex
X-PUBLISHED-TTL:PT1H
BEGIN:VTIMEZONE
TZID:Europe/Stockholm
BEGIN:DAYLIGHT
TZOFFSETFROM:+0100
TZOFFSETTO:+0200
TZNAME:CEST
DTSTART:20240331T010000
END:DAYLIGHT
BEGIN:STANDARD
TZOFFSETFROM:+0200
TZOFFSETTO:+0100
TZNAME:CET
DTSTART:20241027T010000
END:STANDARD
BEGIN:DAYLIGHT
TZOFFSETFROM:+0100
TZOFFSETTO:+0200
TZNAME:CEST
DTSTART:20250330T010000
END:DAYLIGHT
BEGIN:STANDARD
TZOFFSETFROM:+0200
TZOFFSETTO:+0100
TZNAME:CET
DTSTART:20251026T010000
END:STANDARD
BEGIN:DAYLIGHT
TZOFFSETFROM:+0100
TZOFFSETTO:+0200
TZNAME:CEST
DTSTART:20260329T010000
END:DAYLIGHT
BEGIN:STANDARD
TZOFFSETFROM:+0200
TZOFFSETTO:+0100
TZNAME:CET
DTSTART:20261025T010000
END:STANDARD
END:VTIMEZONE
BEGIN:VEVENT
DTSTART;TZID=Europe/Stockholm:20250903T090000
DTEND;TZID=Europe/Stockholm:20250903T120000
DTSTAMP:20260422T025757
CREATED:20250724T093906Z
LAST-MODIFIED:20250724T093906Z
UID:685-1756890000-1756900800@www.hoforsjaktochsportskytteklubb.se
SUMMARY:Bemannad Skjutning på Älgbanan
DESCRIPTION:Elektronisk Älgbana på 80m \n\nSkjutledare på plats\nIcke medlemmar får efter godkännande från skjutledaren skjuta mot en avgift på 50kr\, (ämnat för prova-på och övning)\n\nOBS! vi skriver bara i skytteboken för medlemmar.\n\n\nAmmunition finns att köpa för medlemmar.\n\nOBS! Endast Swish Betalning!\n.30-06\n.308w\n6\,5×55\n\n\nHalvautomater måste ha Säkerhetspropp! (Finns att köpa på plats för 50kr)
URL:https://www.hoforsjaktochsportskytteklubb.se/aktiviteter/bemannad-skjutning-pa-algbanan-42/
CATEGORIES:Älgbana
END:VEVENT
BEGIN:VEVENT
DTSTART;TZID=Europe/Stockholm:20250906T090000
DTEND;TZID=Europe/Stockholm:20250906T120000
DTSTAMP:20260422T025757
CREATED:20250724T094746Z
LAST-MODIFIED:20250724T094746Z
UID:702-1757149200-1757160000@www.hoforsjaktochsportskytteklubb.se
SUMMARY:Bemannad Skjutning på Älgbanan
DESCRIPTION:Elektronisk Älgbana på 80m \n\nSkjutledare på plats\nIcke medlemmar får efter godkännande från skjutledaren skjuta mot en avgift på 50kr\, (ämnat för prova-på och övning)\n\nOBS! vi skriver bara i skytteboken för medlemmar.\n\n\nAmmunition finns att köpa för medlemmar.\n\nOBS! Endast Swish Betalning!\n.30-06\n.308w\n6\,5×55\n\n\nHalvautomater måste ha Säkerhetspropp! (Finns att köpa på plats för 50kr)
URL:https://www.hoforsjaktochsportskytteklubb.se/aktiviteter/bemannad-skjutning-pa-algbanan-50/
CATEGORIES:Älgbana
END:VEVENT
BEGIN:VEVENT
DTSTART;TZID=Europe/Stockholm:20250910T090000
DTEND;TZID=Europe/Stockholm:20250910T120000
DTSTAMP:20260422T025757
CREATED:20250724T093944Z
LAST-MODIFIED:20250724T093944Z
UID:687-1757494800-1757505600@www.hoforsjaktochsportskytteklubb.se
SUMMARY:Bemannad Skjutning på Älgbanan
DESCRIPTION:Elektronisk Älgbana på 80m \n\nSkjutledare på plats\nIcke medlemmar får efter godkännande från skjutledaren skjuta mot en avgift på 50kr\, (ämnat för prova-på och övning)\n\nOBS! vi skriver bara i skytteboken för medlemmar.\n\n\nAmmunition finns att köpa för medlemmar.\n\nOBS! Endast Swish Betalning!\n.30-06\n.308w\n6\,5×55\n\n\nHalvautomater måste ha Säkerhetspropp! (Finns att köpa på plats för 50kr)
URL:https://www.hoforsjaktochsportskytteklubb.se/aktiviteter/bemannad-skjutning-pa-algbanan-43/
CATEGORIES:Älgbana
END:VEVENT
BEGIN:VEVENT
DTSTART;TZID=Europe/Stockholm:20250913T090000
DTEND;TZID=Europe/Stockholm:20250913T120000
DTSTAMP:20260422T025757
CREATED:20250724T094444Z
LAST-MODIFIED:20250724T094645Z
UID:699-1757754000-1757764800@www.hoforsjaktochsportskytteklubb.se
SUMMARY:Bemannad Skjutning på Älgbanan
DESCRIPTION:Elektronisk Älgbana på 80m \n\nSkjutledare på plats\nIcke medlemmar får efter godkännande från skjutledaren skjuta mot en avgift på 50kr\, (ämnat för prova-på och övning)\n\nOBS! vi skriver bara i skytteboken för medlemmar.\n\n\nAmmunition finns att köpa för medlemmar.\n\nOBS! Endast Swish Betalning!\n.30-06\n.308w\n6\,5×55\n\n\nHalvautomater måste ha Säkerhetspropp! (Finns att köpa på plats för 50kr)
URL:https://www.hoforsjaktochsportskytteklubb.se/aktiviteter/bemannad-skjutning-pa-algbanan-49/
CATEGORIES:Älgbana
END:VEVENT
BEGIN:VEVENT
DTSTART;TZID=Europe/Stockholm:20250917T090000
DTEND;TZID=Europe/Stockholm:20250917T120000
DTSTAMP:20260422T025757
CREATED:20250724T094018Z
LAST-MODIFIED:20250724T094027Z
UID:689-1758099600-1758110400@www.hoforsjaktochsportskytteklubb.se
SUMMARY:Bemannad Skjutning på Älgbanan
DESCRIPTION:Elektronisk Älgbana på 80m \n\nSkjutledare på plats\nIcke medlemmar får efter godkännande från skjutledaren skjuta mot en avgift på 50kr\, (ämnat för prova-på och övning)\n\nOBS! vi skriver bara i skytteboken för medlemmar.\n\n\nAmmunition finns att köpa för medlemmar.\n\nOBS! Endast Swish Betalning!\n.30-06\n.308w\n6\,5×55\n\n\nHalvautomater måste ha Säkerhetspropp! (Finns att köpa på plats för 50kr)
URL:https://www.hoforsjaktochsportskytteklubb.se/aktiviteter/bemannad-skjutning-pa-algbanan-44/
CATEGORIES:Älgbana
END:VEVENT
BEGIN:VEVENT
DTSTART;TZID=Europe/Stockholm:20250924T090000
DTEND;TZID=Europe/Stockholm:20250924T120000
DTSTAMP:20260422T025757
CREATED:20250724T094107Z
LAST-MODIFIED:20250724T094107Z
UID:691-1758704400-1758715200@www.hoforsjaktochsportskytteklubb.se
SUMMARY:Bemannad Skjutning på Älgbanan
DESCRIPTION:Elektronisk Älgbana på 80m \n\nSkjutledare på plats\nIcke medlemmar får efter godkännande från skjutledaren skjuta mot en avgift på 50kr\, (ämnat för prova-på och övning)\n\nOBS! vi skriver bara i skytteboken för medlemmar.\n\n\nAmmunition finns att köpa för medlemmar.\n\nOBS! Endast Swish Betalning!\n.30-06\n.308w\n6\,5×55\n\n\nHalvautomater måste ha Säkerhetspropp! (Finns att köpa på plats för 50kr)
URL:https://www.hoforsjaktochsportskytteklubb.se/aktiviteter/bemannad-skjutning-pa-algbanan-45/
CATEGORIES:Älgbana
END:VEVENT
BEGIN:VEVENT
DTSTART;TZID=Europe/Stockholm:20250927T090000
DTEND;TZID=Europe/Stockholm:20250927T120000
DTSTAMP:20260422T025757
CREATED:20250724T094406Z
LAST-MODIFIED:20250724T094406Z
UID:697-1758963600-1758974400@www.hoforsjaktochsportskytteklubb.se
SUMMARY:Bemannad Skjutning på Älgbanan
DESCRIPTION:Elektronisk Älgbana på 80m \n\nSkjutledare på plats\nIcke medlemmar får efter godkännande från skjutledaren skjuta mot en avgift på 50kr\, (ämnat för prova-på och övning)\n\nOBS! vi skriver bara i skytteboken för medlemmar.\n\n\nAmmunition finns att köpa för medlemmar.\n\nOBS! Endast Swish Betalning!\n.30-06\n.308w\n6\,5×55\n\n\nHalvautomater måste ha Säkerhetspropp! (Finns att köpa på plats för 50kr)
URL:https://www.hoforsjaktochsportskytteklubb.se/aktiviteter/bemannad-skjutning-pa-algbanan-48/
CATEGORIES:Älgbana
END:VEVENT
END:VCALENDAR